BEGIN:VCALENDAR
VERSION:2.0
PRODID:-//ACVO TSI - ECPv6.15.1.1//NONSGML v1.0//EN
CALSCALE:GREGORIAN
METHOD:PUBLISH
X-WR-CALNAME:ACVO TSI
X-ORIGINAL-URL:https://acvo.org.uk
X-WR-CALDESC:Events for ACVO TSI
REFRESH-INTERVAL;VALUE=DURATION:PT1H
X-Robots-Tag:noindex
X-PUBLISHED-TTL:PT1H
BEGIN:VTIMEZONE
TZID:Europe/London
BEGIN:DAYLIGHT
TZOFFSETFROM:+0000
TZOFFSETTO:+0100
TZNAME:BST
DTSTART:20260329T010000
END:DAYLIGHT
BEGIN:STANDARD
TZOFFSETFROM:+0100
TZOFFSETTO:+0000
TZNAME:GMT
DTSTART:20261025T010000
END:STANDARD
END:VTIMEZONE
BEGIN:VEVENT
DTSTART;TZID=Europe/London:20260511T183000
DTEND;TZID=Europe/London:20260511T200000
DTSTAMP:20260422T123059
CREATED:20260416T152422Z
LAST-MODIFIED:20260416T152422Z
UID:10003932-1778524200-1778529600@acvo.org.uk
SUMMARY:Community Buildings Fund: Renewable Energy Projects through CARES
DESCRIPTION:Join the Community Energy Launchpad to learn how community organisations can reduce their building’s energy costs and emissions. \nPlanning and Funding your Community Building Decarbonisation Project\nJoin us for a collaborative workshop with Community Energy Launchpad designed to help local not-for-profit organisations take the next step toward energy-efficient\, low-carbon community-owned or -leased buildings. \nWhether you’re new to sustainability or looking to boost your project\, this event is a great opportunity to learn what works\, ask questions\, and get support for the first steps of your project. \nWe’ll cover the fundamentals of technologies like heat pumps and solar pannels and potential routes to funding\, and you’ll hear directly from groups who have already delivered successful CARES-funded upgrades. \nBy the end of the session\, you’ll understand what makes a strong CARES Community Buildings Fund application\, what typical community-led decarbonisation projects look like in practice\, and where to start with costs\, energy assessments and next steps.
URL:https://acvo.org.uk/event/community-buildings-fund-renewable-energy-projects-through-cares/
LOCATION:Online
CATEGORIES:Events
ATTACH;FMTTYPE=image/png:https://acvo.org.uk/wp-content/uploads/2026/04/andrewdavidson-251634244988366-6521620648912687419-Community_Buildings_Fund_Renewable_Energy_Projects_through_CARES.png
GEO:55.378051;-3.435973
END:VEVENT
END:VCALENDAR