BEGIN:VCALENDAR
VERSION:2.0
PRODID:-//ACVO TSI - ECPv6.15.1.1//NONSGML v1.0//EN
CALSCALE:GREGORIAN
METHOD:PUBLISH
X-WR-CALNAME:ACVO TSI
X-ORIGINAL-URL:https://acvo.org.uk
X-WR-CALDESC:Events for ACVO TSI
REFRESH-INTERVAL;VALUE=DURATION:PT1H
X-Robots-Tag:noindex
X-PUBLISHED-TTL:PT1H
BEGIN:VTIMEZONE
TZID:Europe/London
BEGIN:DAYLIGHT
TZOFFSETFROM:+0000
TZOFFSETTO:+0100
TZNAME:BST
DTSTART:20260329T010000
END:DAYLIGHT
BEGIN:STANDARD
TZOFFSETFROM:+0100
TZOFFSETTO:+0000
TZNAME:GMT
DTSTART:20261025T010000
END:STANDARD
END:VTIMEZONE
BEGIN:VEVENT
DTSTART;TZID=Europe/London:20260420T180000
DTEND;TZID=Europe/London:20260420T193000
DTSTAMP:20260420T131104
CREATED:20260401T153924Z
LAST-MODIFIED:20260401T154415Z
UID:10003905-1776708000-1776713400@acvo.org.uk
SUMMARY:Energy & Co-regulation workshop
DESCRIPTION:As part of SensationALL’s neurodivergent training\, aimed mainly at parents\, but suitable for professionals as well\, we are running a series of workshops. \nOn the 20th April 2026\, we have our ‘Energy & Co-regulation’ workshop – understanding energy\, stress and connection. \nThis session helps you pre-empt when your loved-one is running low on energy or nearing overwhelm\, and how you can support them before things escalate. \nWe will discuss how the body’s fight\, flight\, and freeze responses influence behaviour and give you ways to regulate and support their needs. \nYou’ll explore: \n\nWhat drains or boosts your child’s “energy battery”\nHow to read early signs of stress\nGentle ways to co-regulate together\nPractical strategies for calmer\, more predictable days
URL:https://acvo.org.uk/event/energy-and-co-regulation-workshop/
LOCATION:Online
CATEGORIES:Events
ATTACH;FMTTYPE=image/jpeg:https://acvo.org.uk/wp-content/uploads/2026/01/sensationall-logo-2026.jpg
ORGANIZER;CN="SensationALL":MAILTO:training@sensationall.org.uk
GEO:55.378051;-3.435973
END:VEVENT
END:VCALENDAR